BEGIN:VCALENDAR
VERSION:2.0
PRODID:-//Squarespace Inc/Squarespace 6//v6//EN
BEGIN:VEVENT
UID:58086b919f745623425431a0@squarespace.com
DTSTAMP:20161020T075229Z
DTSTART:20161021T073000Z
DTEND:20161022T083000Z
SUMMARY:booked
END:VEVENT
END:VCALENDAR
