BEGIN:VCALENDAR
VERSION:2.0
PRODID:-//Squarespace Inc/Squarespace 6//v6//EN
BEGIN:VEVENT
UID:5808761546c3c44d6e2a03e2@squarespace.com
DTSTAMP:20161020T074723Z
DTSTART:20161025T080000Z
DTEND:20161025T090000Z
SUMMARY:booked
END:VEVENT
END:VCALENDAR
