BEGIN:VCALENDAR
VERSION:2.0
PRODID:-//Squarespace Inc/Squarespace 6//v6//EN
BEGIN:VEVENT
UID:5808769b1b631b83fe93743c@squarespace.com
DTSTAMP:20161020T074917Z
DTSTART:20161029T010000Z
DTEND:20161030T020000Z
SUMMARY:booked
END:VEVENT
END:VCALENDAR
