BEGIN:VCALENDAR
VERSION:2.0
PRODID:-//Squarespace Inc/Squarespace 6//v6//EN
BEGIN:VEVENT
UID:58104a2a2994caaa1fa6a41e@squarespace.com
DTSTAMP:20161026T062132Z
DTSTART:20161115T213000Z
DTEND:20161116T070000Z
SUMMARY:Booked
END:VEVENT
END:VCALENDAR
