BEGIN:VCALENDAR
VERSION:2.0
PRODID:-//Squarespace Inc/Squarespace 6//v6//EN
BEGIN:VEVENT
UID:5808770b37c5810624e823a6@squarespace.com
DTSTAMP:20161020T075059Z
DTSTART:20161102T020000Z
DTEND:20161111T030000Z
SUMMARY:booked
END:VEVENT
END:VCALENDAR
