BEGIN:VCALENDAR
VERSION:2.0
PRODID:-//Squarespace Inc/Squarespace 6//v6//EN
BEGIN:VEVENT
UID:582fec7a59cc687f52196628@squarespace.com
DTSTAMP:20161119T061036Z
DTSTART:20161124T063000Z
DTEND:20161124T073000Z
SUMMARY:Booked
END:VEVENT
END:VCALENDAR
