BEGIN:VCALENDAR
VERSION:2.0
PRODID:-//Squarespace Inc/Squarespace 6//v6//EN
BEGIN:VEVENT
UID:58087783e3df28efe838b80b@squarespace.com
DTSTAMP:20161020T075310Z
DTSTART:20161126T020000Z
DTEND:20161127T120000Z
SUMMARY:booked
END:VEVENT
END:VCALENDAR
