BEGIN:VCALENDAR
VERSION:2.0
PRODID:-//Squarespace Inc/Squarespace 6//v6//EN
BEGIN:VEVENT
UID:582fece659cc687f521969d5@squarespace.com
DTSTAMP:20161119T061424Z
DTSTART:20161130T020000Z
DTEND:20161201T000000Z
SUMMARY:Booked
END:VEVENT
END:VCALENDAR
