BEGIN:VCALENDAR
VERSION:2.0
PRODID:-//Squarespace Inc/Squarespace 6//v6//EN
BEGIN:VEVENT
UID:582fedf3725e2597a553424d@squarespace.com
DTSTAMP:20161119T062734Z
DTSTART:20161211T020000Z
DTEND:20161212T000000Z
SUMMARY:Booked
END:VEVENT
END:VCALENDAR
