BEGIN:VCALENDAR
VERSION:2.0
PRODID:-//Squarespace Inc/Squarespace 6//v6//EN
BEGIN:VEVENT
UID:5850ec618419c2457576f9c9@squarespace.com
DTSTAMP:20161214T065544Z
DTSTART:20161217T070000Z
DTEND:20161218T010000Z
SUMMARY:Booked
END:VEVENT
END:VCALENDAR
