BEGIN:VCALENDAR
VERSION:2.0
PRODID:-//Squarespace Inc/Squarespace 6//v6//EN
BEGIN:VEVENT
UID:5850ec968419c2457576fbee@squarespace.com
DTSTAMP:20161214T070022Z
DTSTART:20161214T070000Z
DTEND:20161216T020000Z
SUMMARY:Booked
END:VEVENT
END:VCALENDAR
