BEGIN:VCALENDAR
VERSION:2.0
PRODID:-//Squarespace Inc/Squarespace 6//v6//EN
BEGIN:VEVENT
UID:5850ecf98419c24575770037@squarespace.com
DTSTAMP:20161214T070122Z
DTSTART:20161218T020000Z
DTEND:20161219T210000Z
SUMMARY:Booked
END:VEVENT
END:VCALENDAR
