BEGIN:VCALENDAR
VERSION:2.0
PRODID:-//Squarespace Inc/Squarespace 6//v6//EN
BEGIN:VEVENT
UID:580877f6579fb31efea12175@squarespace.com
DTSTAMP:20161020T075410Z
DTSTART:20161202T080000Z
DTEND:20161203T090000Z
SUMMARY:booked
END:VEVENT
END:VCALENDAR
