BEGIN:VCALENDAR
VERSION:2.0
PRODID:-//Squarespace Inc/Squarespace 6//v6//EN
BEGIN:VEVENT
UID:5850ed278419c245757701b8@squarespace.com
DTSTAMP:20161214T065722Z
DTSTART:20161223T070000Z
DTEND:20161229T020000Z
SUMMARY:Booked
END:VEVENT
END:VCALENDAR
