BEGIN:VCALENDAR
VERSION:2.0
PRODID:-//Squarespace Inc/Squarespace 6//v6//EN
BEGIN:VEVENT
UID:582feef86b8f5bca572c694e@squarespace.com
DTSTAMP:20161119T062115Z
DTSTART:20170118T000000Z
DTEND:20170418T010000Z
SUMMARY:Booked
END:VEVENT
END:VCALENDAR
