BEGIN:VCALENDAR
VERSION:2.0
PRODID:-//Squarespace Inc/Squarespace 6//v6//EN
BEGIN:VEVENT
UID:582fee6c6b8f5bca572c6657@squarespace.com
DTSTAMP:20161119T061912Z
DTSTART:20170105T000000Z
DTEND:20170106T000000Z
SUMMARY:Booked
END:VEVENT
END:VCALENDAR
