BEGIN:VCALENDAR
VERSION:2.0
PRODID:-//Squarespace Inc/Squarespace 6//v6//EN
BEGIN:VEVENT
UID:59674060f7e0ab3d29b9633e@squarespace.com
DTSTAMP:20170713T094232Z
DTSTART:20171021T210000Z
DTEND:20171023T100000Z
SUMMARY:Booked
END:VEVENT
END:VCALENDAR
