BEGIN:VCALENDAR
VERSION:2.0
PRODID:-//Squarespace Inc/Squarespace 6//v6//EN
BEGIN:VEVENT
UID:59ef103ff6576e332c87a155@squarespace.com
DTSTAMP:20171024T100610Z
DTSTART:20171027T000000Z
DTEND:20171027T130000Z
SUMMARY:Booked
END:VEVENT
END:VCALENDAR
