BEGIN:VCALENDAR
VERSION:2.0
PRODID:-//Squarespace Inc/Squarespace 6//v6//EN
BEGIN:VEVENT
UID:59ef10e6268b9615dbc8ad31@squarespace.com
DTSTAMP:20171024T100848Z
DTSTART:20171029T020000Z
DTEND:20171110T130000Z
SUMMARY:Booked
END:VEVENT
END:VCALENDAR
