BEGIN:VCALENDAR
VERSION:2.0
PRODID:-//Squarespace Inc/Squarespace 6//v6//EN
BEGIN:VEVENT
UID:59bcf4d5a803bb7582cc8156@squarespace.com
DTSTAMP:20171209T090721Z
DTSTART:20171125T020000Z
DTEND:20171126T010000Z
SUMMARY:Booked
END:VEVENT
END:VCALENDAR
