BEGIN:VCALENDAR
VERSION:2.0
PRODID:-//Squarespace Inc/Squarespace 6//v6//EN
BEGIN:VEVENT
UID:596740921b631b995a1c3b95@squarespace.com
DTSTAMP:20170713T094321Z
DTSTART:20171103T210000Z
DTEND:20171105T100000Z
SUMMARY:Booked
END:VEVENT
END:VCALENDAR
