BEGIN:VCALENDAR
VERSION:2.0
PRODID:-//Squarespace Inc/Squarespace 6//v6//EN
BEGIN:VEVENT
UID:5a3e02259140b75e195978d1@squarespace.com
DTSTAMP:20171223T071358Z
DTSTART:20171218T073000Z
DTEND:20171225T083000Z
SUMMARY:Booked
END:VEVENT
END:VCALENDAR
