BEGIN:VCALENDAR
VERSION:2.0
PRODID:-//Squarespace Inc/Squarespace 6//v6//EN
BEGIN:VEVENT
UID:5a2ba80bc83025c512a4460f@squarespace.com
DTSTAMP:20171209T090944Z
DTSTART:20171226T030000Z
DTEND:20171227T010000Z
SUMMARY:Booked
END:VEVENT
END:VCALENDAR
