BEGIN:VCALENDAR
VERSION:2.0
PRODID:-//Squarespace Inc/Squarespace 6//v6//EN
BEGIN:VEVENT
UID:5a3e01e19140b75e195975b7@squarespace.com
DTSTAMP:20171223T071256Z
DTSTART:20171228T073000Z
DTEND:20171229T083000Z
SUMMARY:Booked
END:VEVENT
END:VCALENDAR
