BEGIN:VCALENDAR
VERSION:2.0
PRODID:-//Squarespace Inc/Squarespace 6//v6//EN
BEGIN:VEVENT
UID:59ef1161f14aa140db21dac0@squarespace.com
DTSTAMP:20171024T101022Z
DTSTART:20171203T020000Z
DTEND:20171205T010000Z
SUMMARY:Booked
END:VEVENT
END:VCALENDAR
