BEGIN:VCALENDAR
VERSION:2.0
PRODID:-//Squarespace Inc/Squarespace 6//v6//EN
BEGIN:VEVENT
UID:5a2ba86a24a694017dd0852b@squarespace.com
DTSTAMP:20171209T091042Z
DTSTART:20171230T030000Z
DTEND:20180101T010000Z
SUMMARY:Booked
END:VEVENT
END:VCALENDAR
