BEGIN:VCALENDAR
VERSION:2.0
PRODID:-//Squarespace Inc/Squarespace 6//v6//EN
BEGIN:VEVENT
UID:5a2ba7f39140b7429c7e4ee4@squarespace.com
DTSTAMP:20171209T091154Z
DTSTART:20171206T093000Z
DTEND:20171207T103000Z
SUMMARY:Booked
END:VEVENT
END:VCALENDAR
