BEGIN:VCALENDAR
VERSION:2.0
PRODID:-//Squarespace Inc/Squarespace 6//v6//EN
BEGIN:VEVENT
UID:58e194c217bffc2b388a41aa@squarespace.com
DTSTAMP:20170403T001855Z
DTSTART:20170421T003000Z
DTEND:20170422T013000Z
SUMMARY:Booked
END:VEVENT
END:VCALENDAR
