BEGIN:VCALENDAR
VERSION:2.0
PRODID:-//Squarespace Inc/Squarespace 6//v6//EN
BEGIN:VEVENT
UID:58e19562725e250f972b5a43@squarespace.com
DTSTAMP:20170403T002153Z
DTSTART:20170511T003000Z
DTEND:20170511T133000Z
SUMMARY:Booked
END:VEVENT
END:VCALENDAR
