BEGIN:VCALENDAR
VERSION:2.0
PRODID:-//Squarespace Inc/Squarespace 6//v6//EN
BEGIN:VEVENT
UID:58e195e003596ea58496828c@squarespace.com
DTSTAMP:20170403T002711Z
DTSTART:20170517T003000Z
DTEND:20170517T133000Z
SUMMARY:Booked
END:VEVENT
END:VCALENDAR
