BEGIN:VCALENDAR
VERSION:2.0
PRODID:-//Squarespace Inc/Squarespace 6//v6//EN
BEGIN:VEVENT
UID:591eeb531e5b6c649ad7541c@squarespace.com
DTSTAMP:20170519T125624Z
DTSTART:20170521T010000Z
DTEND:20170522T020000Z
SUMMARY:Booked
END:VEVENT
END:VCALENDAR
