BEGIN:VCALENDAR
VERSION:2.0
PRODID:-//Squarespace Inc/Squarespace 6//v6//EN
BEGIN:VEVENT
UID:591eeb271e5b6c649ad7524d@squarespace.com
DTSTAMP:20170519T125722Z
DTSTART:20170527T010000Z
DTEND:20170529T020000Z
SUMMARY:Booked
END:VEVENT
END:VCALENDAR
