BEGIN:VCALENDAR
VERSION:2.0
PRODID:-//Squarespace Inc/Squarespace 6//v6//EN
BEGIN:VEVENT
UID:58e1960303596ea584968406@squarespace.com
DTSTAMP:20170403T002728Z
DTSTART:20170527T003000Z
DTEND:20170528T133000Z
SUMMARY:Booked
END:VEVENT
END:VCALENDAR
