BEGIN:VCALENDAR
VERSION:2.0
PRODID:-//Squarespace Inc/Squarespace 6//v6//EN
BEGIN:VEVENT
UID:58e194fed482e9ebf97d256b@squarespace.com
DTSTAMP:20170403T002040Z
DTSTART:20170506T003000Z
DTEND:20170507T130000Z
SUMMARY:Booked
END:VEVENT
END:VCALENDAR
