BEGIN:VCALENDAR
VERSION:2.0
PRODID:-//Squarespace Inc/Squarespace 6//v6//EN
BEGIN:VEVENT
UID:591eebc4bebafbe5020538ce@squarespace.com
DTSTAMP:20170519T125815Z
DTSTART:20170603T130000Z
DTEND:20170604T020000Z
SUMMARY:Booked
END:VEVENT
END:VCALENDAR
