BEGIN:VCALENDAR
VERSION:2.0
PRODID:-//Squarespace Inc/Squarespace 6//v6//EN
BEGIN:VEVENT
UID:59673e9c414fb585117177f4@squarespace.com
DTSTAMP:20170713T093502Z
DTSTART:20170712T220000Z
DTEND:20170713T110000Z
SUMMARY:Booked
END:VEVENT
END:VCALENDAR
