BEGIN:VCALENDAR
VERSION:2.0
PRODID:-//Squarespace Inc/Squarespace 6//v6//EN
BEGIN:VEVENT
UID:59673d6859cc68ef6167174e@squarespace.com
DTSTAMP:20170713T093048Z
DTSTART:20170713T213000Z
DTEND:20170715T020000Z
SUMMARY:Booked
END:VEVENT
END:VCALENDAR
