BEGIN:VCALENDAR
VERSION:2.0
PRODID:-//Squarespace Inc/Squarespace 6//v6//EN
BEGIN:VEVENT
UID:59673dd73a04116244cb86fa@squarespace.com
DTSTAMP:20170713T093357Z
DTSTART:20170718T220000Z
DTEND:20170718T230000Z
SUMMARY:Booked
END:VEVENT
END:VCALENDAR
