BEGIN:VCALENDAR
VERSION:2.0
PRODID:-//Squarespace Inc/Squarespace 6//v6//EN
BEGIN:VEVENT
UID:59673e0246c3c4c51098336d@squarespace.com
DTSTAMP:20170713T093242Z
DTSTART:20170720T220000Z
DTEND:20170723T110000Z
SUMMARY:Booked
END:VEVENT
END:VCALENDAR
