BEGIN:VCALENDAR
VERSION:2.0
PRODID:-//Squarespace Inc/Squarespace 6//v6//EN
BEGIN:VEVENT
UID:59673f5d20099e913270c2cc@squarespace.com
DTSTAMP:20170713T094036Z
DTSTART:20170725T220000Z
DTEND:20170728T110000Z
SUMMARY:Booked
END:VEVENT
END:VCALENDAR
