BEGIN:VCALENDAR
VERSION:2.0
PRODID:-//Squarespace Inc/Squarespace 6//v6//EN
BEGIN:VEVENT
UID:59673e476a49633636c6e96f@squarespace.com
DTSTAMP:20170713T093346Z
DTSTART:20170727T220000Z
DTEND:20170729T110000Z
SUMMARY:Booked
END:VEVENT
END:VCALENDAR
