BEGIN:VCALENDAR
VERSION:2.0
PRODID:-//Squarespace Inc/Squarespace 6//v6//EN
BEGIN:VEVENT
UID:5992a0ca59cc68551196a725@squarespace.com
DTSTAMP:20170815T072205Z
DTSTART:20170819T040000Z
DTEND:20170821T020000Z
SUMMARY:Booked
END:VEVENT
END:VCALENDAR
