BEGIN:VCALENDAR
VERSION:2.0
PRODID:-//Squarespace Inc/Squarespace 6//v6//EN
BEGIN:VEVENT
UID:5967416b1b631b995a1c4109@squarespace.com
DTSTAMP:20170713T094657Z
DTSTART:20170801T220000Z
DTEND:20170802T040000Z
SUMMARY:Booked
END:VEVENT
END:VCALENDAR
