BEGIN:VCALENDAR
VERSION:2.0
PRODID:-//Squarespace Inc/Squarespace 6//v6//EN
BEGIN:VEVENT
UID:59673fd572af65d96079022d@squarespace.com
DTSTAMP:20170713T094012Z
DTSTART:20170825T220000Z
DTEND:20170828T110000Z
SUMMARY:Booked
END:VEVENT
END:VCALENDAR
