BEGIN:VCALENDAR
VERSION:2.0
PRODID:-//Squarespace Inc/Squarespace 6//v6//EN
BEGIN:VEVENT
UID:5992a15ca803bb82832877db@squarespace.com
DTSTAMP:20170815T072414Z
DTSTART:20170829T040000Z
DTEND:20170829T140000Z
SUMMARY:Booked
END:VEVENT
END:VCALENDAR
