BEGIN:VCALENDAR
VERSION:2.0
PRODID:-//Squarespace Inc/Squarespace 6//v6//EN
BEGIN:VEVENT
UID:59673ed12e69cff3c061daef@squarespace.com
DTSTAMP:20170713T093700Z
DTSTART:20170803T220000Z
DTEND:20170805T110000Z
SUMMARY:Booked
END:VEVENT
END:VCALENDAR
