BEGIN:VCALENDAR
VERSION:2.0
PRODID:-//Squarespace Inc/Squarespace 6//v6//EN
BEGIN:VEVENT
UID:59bcf3e351a5845ca67afd92@squarespace.com
DTSTAMP:20170916T095123Z
DTSTART:20170915T100000Z
DTEND:20170916T020000Z
SUMMARY:Booked
END:VEVENT
END:VCALENDAR
