BEGIN:VCALENDAR
VERSION:2.0
PRODID:-//Squarespace Inc/Squarespace 6//v6//EN
BEGIN:VEVENT
UID:59bcf2ff49fc2b0ba8d443c6@squarespace.com
DTSTAMP:20170916T094828Z
DTSTART:20170922T030000Z
DTEND:20170924T010000Z
SUMMARY:Booked
END:VEVENT
END:VCALENDAR
