BEGIN:VCALENDAR
VERSION:2.0
PRODID:-//Squarespace Inc/Squarespace 6//v6//EN
BEGIN:VEVENT
UID:59bcf476c027d81dff09d6d5@squarespace.com
DTSTAMP:20170916T095335Z
DTSTART:20170929T030000Z
DTEND:20170930T020000Z
SUMMARY:Booked
END:VEVENT
END:VCALENDAR
