BEGIN:VCALENDAR
VERSION:2.0
PRODID:-//Squarespace Inc/Squarespace 6//v6//EN
BEGIN:VEVENT
UID:5967401ff7e0ab3d29b961b9@squarespace.com
DTSTAMP:20170713T094136Z
DTSTART:20170907T220000Z
DTEND:20170909T110000Z
SUMMARY:Booked
END:VEVENT
END:VCALENDAR
